BEGIN:VCALENDAR
VERSION:2.0
PRODID:-//Tukios.com/
BEGIN:VEVENT
UID:c0669511-e902-4660-9ee3-06adbcf403ea@www.westbrockfuneralhome.com
DTSTAMP:20260420T232301Z
DTSTART:20260423T150000Z
DTEND:20260423T160000Z
SUMMARY:Mass
DESCRIPTION:
URL:https://www.westbrockfuneralhome.com/obituaries/maxson-clarke
LOCATION: 6245 Wilmington Pike  Dayton OH 45459
GEO:39.6478528;-84.1125057
END:VEVENT
END:VCALENDAR